﻿BEGIN:VCALENDAR
VERSION:2.0
PRODID:-//Senac Pernambuco - ECPv5.4.0//NONSGML v1.0//EN
CALSCALE:GREGORIAN
METHOD:PUBLISH
X-WR-CALNAME:Senac Pernambuco
X-ORIGINAL-URL:https://www.pe.senac.br
X-WR-CALDESC:Eventos para Senac Pernambuco
BEGIN:VTIMEZONE
TZID:America/Recife
BEGIN:STANDARD
TZOFFSETFROM:-0300
TZOFFSETTO:-0300
TZNAME:-03
DTSTART:20260101T000000
END:STANDARD
END:VTIMEZONE
BEGIN:VEVENT
DTSTART;TZID=America/Recife:20260422T080000
DTEND;TZID=America/Recife:20260423T170000
DTSTAMP:20260421T083827
CREATED:20260420T172028Z
LAST-MODIFIED:20260420T172028Z
UID:28803-1776844800-1776963600@www.pe.senac.br
SUMMARY:FORMAÇÃO DE GESTORES - BONANZA SUPERMERCADOS
DESCRIPTION:EVENTO SERÁ REALIZADO NO HALL DE EVENTOS (TÉRREO)
URL:https://www.pe.senac.br/evento/formacao-de-gestores-bonanza-supermercados/
LOCATION:Senac PE – Caruaru\, Av. Maria José Lyra\, 140\, Indianópolis\, Caruaru-PE\, Brasil
CATEGORIES:Caruaru
END:VEVENT
END:VCALENDAR