﻿BEGIN:VCALENDAR
VERSION:2.0
PRODID:-//Senac Pernambuco - ECPv5.4.0//NONSGML v1.0//EN
CALSCALE:GREGORIAN
METHOD:PUBLISH
X-WR-CALNAME:Senac Pernambuco
X-ORIGINAL-URL:https://www.pe.senac.br
X-WR-CALDESC:Eventos para Senac Pernambuco
BEGIN:VTIMEZONE
TZID:America/Recife
BEGIN:STANDARD
TZOFFSETFROM:-0300
TZOFFSETTO:-0300
TZNAME:-03
DTSTART:20180101T000000
END:STANDARD
END:VTIMEZONE
BEGIN:VEVENT
DTSTART;TZID=America/Recife:20180822T080000
DTEND;TZID=America/Recife:20180823T180000
DTSTAMP:20260420T150104
CREATED:20180801T192004Z
LAST-MODIFIED:20180801T192004Z
UID:10839-1534924800-1535047200@www.pe.senac.br
SUMMARY:SEMINÁRIO NACIONAL DE DIREITO GESTÃO FISCAL E CONTABILIDADE APLICADA AO SETOR PÚBLICO
DESCRIPTION:Será realizado no auditório 3.
URL:https://www.pe.senac.br/evento/seminario-nacional-de-direito-gestao-fiscal-e-contabilidade-aplicada-ao-setor-publico/
LOCATION:Senac PE – Caruaru\, Av. Maria José Lyra\, 140\, Indianópolis\, Caruaru-PE\, Brasil
CATEGORIES:Caruaru
END:VEVENT
END:VCALENDAR