﻿BEGIN:VCALENDAR
VERSION:2.0
PRODID:-//Senac Pernambuco - ECPv5.4.0//NONSGML v1.0//EN
CALSCALE:GREGORIAN
METHOD:PUBLISH
X-WR-CALNAME:Senac Pernambuco
X-ORIGINAL-URL:https://www.pe.senac.br
X-WR-CALDESC:Eventos para Senac Pernambuco
BEGIN:VTIMEZONE
TZID:America/Recife
BEGIN:STANDARD
TZOFFSETFROM:-0300
TZOFFSETTO:-0300
TZNAME:-03
DTSTART:20180101T000000
END:STANDARD
END:VTIMEZONE
BEGIN:VEVENT
DTSTART;TZID=America/Recife:20181022T080000
DTEND;TZID=America/Recife:20181022T170000
DTSTAMP:20260420T062842
CREATED:20181002T120300Z
LAST-MODIFIED:20181002T120300Z
UID:11401-1540195200-1540227600@www.pe.senac.br
SUMMARY:WORKSHOP E-COSMETICS: BALAYAGE CRIATIVA
DESCRIPTION:Será realizado no auditório 3.
URL:https://www.pe.senac.br/evento/workshop-e-cosmetics-balayage-criativa/
LOCATION:Senac PE – Caruaru\, Av. Maria José Lyra\, 140\, Indianópolis\, Caruaru-PE\, Brasil
CATEGORIES:Caruaru
END:VEVENT
END:VCALENDAR