﻿BEGIN:VCALENDAR
VERSION:2.0
PRODID:-//Senac Pernambuco - ECPv5.4.0//NONSGML v1.0//EN
CALSCALE:GREGORIAN
METHOD:PUBLISH
X-WR-CALNAME:Senac Pernambuco
X-ORIGINAL-URL:https://www.pe.senac.br
X-WR-CALDESC:Eventos para Senac Pernambuco
BEGIN:VTIMEZONE
TZID:America/Recife
BEGIN:STANDARD
TZOFFSETFROM:-0300
TZOFFSETTO:-0300
TZNAME:-03
DTSTART:20180101T000000
END:STANDARD
END:VTIMEZONE
BEGIN:VEVENT
DTSTART;TZID=America/Recife:20180826T130000
DTEND;TZID=America/Recife:20180826T190000
DTSTAMP:20260420T062640
CREATED:20180809T172638Z
LAST-MODIFIED:20180809T172638Z
UID:10904-1535288400-1535310000@www.pe.senac.br
SUMMARY:SEMINÁRIO HINODE
DESCRIPTION:Será realizado no auditório 3.
URL:https://www.pe.senac.br/evento/seminario-hinode-2/
LOCATION:Senac PE – Caruaru\, Av. Maria José Lyra\, 140\, Indianópolis\, Caruaru-PE\, Brasil
CATEGORIES:Caruaru
END:VEVENT
BEGIN:VEVENT
DTSTART;TZID=America/Recife:20180828T080000
DTEND;TZID=America/Recife:20180831T180000
DTSTAMP:20260420T062640
CREATED:20180801T192215Z
LAST-MODIFIED:20180801T192215Z
UID:10841-1535443200-1535738400@www.pe.senac.br
SUMMARY:EVENTO MARIZPAN
DESCRIPTION:Será realizado na Lanchonete Escola da UEP.
URL:https://www.pe.senac.br/evento/evento-marizpan/
LOCATION:Senac PE – Caruaru\, Av. Maria José Lyra\, 140\, Indianópolis\, Caruaru-PE\, Brasil
CATEGORIES:Caruaru
END:VEVENT
BEGIN:VEVENT
DTSTART;TZID=America/Recife:20180901T180000
DTEND;TZID=America/Recife:20180901T220000
DTSTAMP:20260420T062640
CREATED:20180903T114135Z
LAST-MODIFIED:20180903T114135Z
UID:11125-1535824800-1535839200@www.pe.senac.br
SUMMARY:ESTÚDIOS DE FOTOGRAFIA - COLAÇÃO DE GRAU UNOPAR
DESCRIPTION:Será realizado no auditório 1 e 2.
URL:https://www.pe.senac.br/evento/estudios-de-fotografia-colacao-de-grau-unopar/
LOCATION:Senac PE – Caruaru\, Av. Maria José Lyra\, 140\, Indianópolis\, Caruaru-PE\, Brasil
CATEGORIES:Caruaru
END:VEVENT
BEGIN:VEVENT
DTSTART;TZID=America/Recife:20180903T180000
DTEND;TZID=America/Recife:20180903T220000
DTSTAMP:20260420T062640
CREATED:20180903T113957Z
LAST-MODIFIED:20180903T113957Z
UID:11123-1535997600-1536012000@www.pe.senac.br
SUMMARY:COLAÇÃO DE GRAU UNOPAR
DESCRIPTION:Será realizado no auditório principal.
URL:https://www.pe.senac.br/evento/colacao-de-grau-unopar-2/
LOCATION:Senac PE – Caruaru\, Av. Maria José Lyra\, 140\, Indianópolis\, Caruaru-PE\, Brasil
CATEGORIES:Caruaru
END:VEVENT
BEGIN:VEVENT
DTSTART;TZID=America/Recife:20180905T080000
DTEND;TZID=America/Recife:20180905T130000
DTSTAMP:20260420T062640
CREATED:20180903T111440Z
LAST-MODIFIED:20180903T111440Z
UID:11099-1536134400-1536152400@www.pe.senac.br
SUMMARY:DEBATE ELEIÇÕES 2018 | CANDIDATOS AO GOVERNO DO ESTADO
DESCRIPTION:Será realizado no auditório 3.
URL:https://www.pe.senac.br/evento/debate-eleicoes-2018-candidatos-ao-governo-do-estado/
LOCATION:Senac PE – Caruaru\, Av. Maria José Lyra\, 140\, Indianópolis\, Caruaru-PE\, Brasil
CATEGORIES:Caruaru
END:VEVENT
BEGIN:VEVENT
DTSTART;TZID=America/Recife:20180913T080000
DTEND;TZID=America/Recife:20180914T170000
DTSTAMP:20260420T062640
CREATED:20180903T111543Z
LAST-MODIFIED:20180903T111543Z
UID:11101-1536825600-1536944400@www.pe.senac.br
SUMMARY:II SIMPÓSIO MULTIDISCIPLINAR DE ONCOLOGIA PEDIÁTRICA E XI JORNADA CIENTIFICA
DESCRIPTION:Será realizado no auditório principal.
URL:https://www.pe.senac.br/evento/ii-simposio-multidisciplinar-de-oncologia-pediatrica-e-xi-jornada-cientifica/
LOCATION:Senac PE – Caruaru\, Av. Maria José Lyra\, 140\, Indianópolis\, Caruaru-PE\, Brasil
CATEGORIES:Caruaru
END:VEVENT
BEGIN:VEVENT
DTSTART;TZID=America/Recife:20180915T070000
DTEND;TZID=America/Recife:20180916T220000
DTSTAMP:20260420T062640
CREATED:20180903T111702Z
LAST-MODIFIED:20180903T111702Z
UID:11103-1536994800-1537135200@www.pe.senac.br
SUMMARY:CONGRESSO ESPÍRITA
DESCRIPTION:Será realizado no auditório principal.
URL:https://www.pe.senac.br/evento/congresso-espirita/
LOCATION:Senac PE – Caruaru\, Av. Maria José Lyra\, 140\, Indianópolis\, Caruaru-PE\, Brasil
CATEGORIES:Caruaru
END:VEVENT
BEGIN:VEVENT
DTSTART;TZID=America/Recife:20180922T130000
DTEND;TZID=America/Recife:20180922T170000
DTSTAMP:20260420T062640
CREATED:20180903T111829Z
LAST-MODIFIED:20180903T111829Z
UID:11105-1537621200-1537635600@www.pe.senac.br
SUMMARY:AULÃO DE OLHO NO ENEM
DESCRIPTION:Será realizado no auditório principal.
URL:https://www.pe.senac.br/evento/aulao-de-olho-no-enem/
LOCATION:Senac PE – Caruaru\, Av. Maria José Lyra\, 140\, Indianópolis\, Caruaru-PE\, Brasil
CATEGORIES:Caruaru
END:VEVENT
BEGIN:VEVENT
DTSTART;TZID=America/Recife:20180923T080000
DTEND;TZID=America/Recife:20180923T180000
DTSTAMP:20260420T062640
CREATED:20180903T112017Z
LAST-MODIFIED:20180903T112017Z
UID:11107-1537689600-1537725600@www.pe.senac.br
SUMMARY:AULÃO CONCURSO PM
DESCRIPTION:Será realizado no auditório principal.
URL:https://www.pe.senac.br/evento/aulao-concurso-pm/
LOCATION:Senac PE – Caruaru\, Av. Maria José Lyra\, 140\, Indianópolis\, Caruaru-PE\, Brasil
CATEGORIES:Caruaru
END:VEVENT
BEGIN:VEVENT
DTSTART;TZID=America/Recife:20180924T080000
DTEND;TZID=America/Recife:20180927T220000
DTSTAMP:20260420T062640
CREATED:20180903T112130Z
LAST-MODIFIED:20180903T112130Z
UID:11109-1537776000-1538085600@www.pe.senac.br
SUMMARY:EVENTO FORMAÇÃO DE PROFESSORES
DESCRIPTION:Será realizado no auditório 2.
URL:https://www.pe.senac.br/evento/evento-formacao-de-professores-8/
LOCATION:Senac PE – Caruaru\, Av. Maria José Lyra\, 140\, Indianópolis\, Caruaru-PE\, Brasil
CATEGORIES:Caruaru
END:VEVENT
BEGIN:VEVENT
DTSTART;TZID=America/Recife:20180924T180000
DTEND;TZID=America/Recife:20180926T220000
DTSTAMP:20260420T062640
CREATED:20180903T112340Z
LAST-MODIFIED:20180903T112340Z
UID:11111-1537812000-1537999200@www.pe.senac.br
SUMMARY:COLAÇÃO DE GRAU UFPE
DESCRIPTION:Será realizado no auditório principal.
URL:https://www.pe.senac.br/evento/colacao-de-grau-ufpe/
LOCATION:Senac PE – Caruaru\, Av. Maria José Lyra\, 140\, Indianópolis\, Caruaru-PE\, Brasil
CATEGORIES:Caruaru
END:VEVENT
BEGIN:VEVENT
DTSTART;TZID=America/Recife:20180927T080000
DTEND;TZID=America/Recife:20180928T220000
DTSTAMP:20260420T062640
CREATED:20180903T112511Z
LAST-MODIFIED:20180903T112511Z
UID:11113-1538035200-1538172000@www.pe.senac.br
SUMMARY:CONGRESSO DE DIREITO UNIFAVIP
DESCRIPTION:Será realizado no auditório principal.
URL:https://www.pe.senac.br/evento/congresso-de-direito-unifavip-4/
LOCATION:Senac PE – Caruaru\, Av. Maria José Lyra\, 140\, Indianópolis\, Caruaru-PE\, Brasil
CATEGORIES:Caruaru
END:VEVENT
BEGIN:VEVENT
DTSTART;TZID=America/Recife:20180928T080000
DTEND;TZID=America/Recife:20180928T180000
DTSTAMP:20260420T062640
CREATED:20180903T113331Z
LAST-MODIFIED:20180903T113331Z
UID:11117-1538121600-1538157600@www.pe.senac.br
SUMMARY:TREINAMENTO UNIMED
DESCRIPTION:Será realizado no auditório 1.
URL:https://www.pe.senac.br/evento/treinamento-unimed/
LOCATION:Senac PE – Caruaru\, Av. Maria José Lyra\, 140\, Indianópolis\, Caruaru-PE\, Brasil
CATEGORIES:Caruaru
END:VEVENT
BEGIN:VEVENT
DTSTART;TZID=America/Recife:20180928T190000
DTEND;TZID=America/Recife:20180928T220000
DTSTAMP:20260420T062640
CREATED:20180903T112646Z
LAST-MODIFIED:20180903T112646Z
UID:11115-1538161200-1538172000@www.pe.senac.br
SUMMARY:DIA DO SURDO / DIA DE GRATIDÃO
DESCRIPTION:Será realizado no hall de eventos.
URL:https://www.pe.senac.br/evento/dia-do-surdo-dia-de-gratidao/
LOCATION:Senac PE – Caruaru\, Av. Maria José Lyra\, 140\, Indianópolis\, Caruaru-PE\, Brasil
CATEGORIES:Caruaru
END:VEVENT
BEGIN:VEVENT
DTSTART;TZID=America/Recife:20180929T080000
DTEND;TZID=America/Recife:20180929T180000
DTSTAMP:20260420T062640
CREATED:20180903T113745Z
LAST-MODIFIED:20180903T113745Z
UID:11121-1538208000-1538244000@www.pe.senac.br
SUMMARY:CURSO DE GESTÃO E FINANÇAS PESSOAIS
DESCRIPTION:Será realizado no auditório 1.
URL:https://www.pe.senac.br/evento/curso-de-gestao-e-financas-pessoais/
LOCATION:Senac PE – Caruaru\, Av. Maria José Lyra\, 140\, Indianópolis\, Caruaru-PE\, Brasil
CATEGORIES:Caruaru
END:VEVENT
BEGIN:VEVENT
DTSTART;TZID=America/Recife:20180929T130000
DTEND;TZID=America/Recife:20180929T220000
DTSTAMP:20260420T062640
CREATED:20180903T113606Z
LAST-MODIFIED:20180903T113606Z
UID:11119-1538226000-1538258400@www.pe.senac.br
SUMMARY:CONGRESSO DE MULHERES
DESCRIPTION:Será realizado no auditório principal.
URL:https://www.pe.senac.br/evento/congresso-de-mulheres/
LOCATION:Senac PE – Caruaru\, Av. Maria José Lyra\, 140\, Indianópolis\, Caruaru-PE\, Brasil
CATEGORIES:Caruaru
END:VEVENT
BEGIN:VEVENT
DTSTART;TZID=America/Recife:20181001T080000
DTEND;TZID=America/Recife:20181004T220000
DTSTAMP:20260420T062640
CREATED:20181002T114804Z
LAST-MODIFIED:20181002T114804Z
UID:11379-1538380800-1538690400@www.pe.senac.br
SUMMARY:EVENTO FORMAÇÃO DE PROFESSORES
DESCRIPTION:Será realizado no auditório 2.
URL:https://www.pe.senac.br/evento/evento-formacao-de-professores-9/
LOCATION:Senac PE – Caruaru\, Av. Maria José Lyra\, 140\, Indianópolis\, Caruaru-PE\, Brasil
CATEGORIES:Caruaru
END:VEVENT
BEGIN:VEVENT
DTSTART;TZID=America/Recife:20181002T180000
DTEND;TZID=America/Recife:20181002T220000
DTSTAMP:20260420T062640
CREATED:20181002T114907Z
LAST-MODIFIED:20181002T114907Z
UID:11381-1538503200-1538517600@www.pe.senac.br
SUMMARY:TREINAMENTO SKILLUS
DESCRIPTION:Será realizado no auditório 1.
URL:https://www.pe.senac.br/evento/treinamento-skillus/
LOCATION:Senac PE – Caruaru\, Av. Maria José Lyra\, 140\, Indianópolis\, Caruaru-PE\, Brasil
CATEGORIES:Caruaru
END:VEVENT
BEGIN:VEVENT
DTSTART;TZID=America/Recife:20181003T080000
DTEND;TZID=America/Recife:20181005T180000
DTSTAMP:20260420T062640
CREATED:20181002T115158Z
LAST-MODIFIED:20181002T115158Z
UID:11383-1538553600-1538762400@www.pe.senac.br
SUMMARY:EVENTO: ENABER
DESCRIPTION:Será realizado no auditório 3\, 05 salas da UEP\, Hall de eventos e cozinha industrial.
URL:https://www.pe.senac.br/evento/evento-enaber/
LOCATION:Senac PE – Caruaru\, Av. Maria José Lyra\, 140\, Indianópolis\, Caruaru-PE\, Brasil
CATEGORIES:Caruaru
END:VEVENT
BEGIN:VEVENT
DTSTART;TZID=America/Recife:20181004T080000
DTEND;TZID=America/Recife:20181004T220000
DTSTAMP:20260420T062640
CREATED:20181002T115257Z
LAST-MODIFIED:20181002T115257Z
UID:11385-1538640000-1538690400@www.pe.senac.br
SUMMARY:UNIVERSIDADE HINODE
DESCRIPTION:Será realizado no auditório 3.
URL:https://www.pe.senac.br/evento/universidade-hinode-2/
LOCATION:Senac PE – Caruaru\, Av. Maria José Lyra\, 140\, Indianópolis\, Caruaru-PE\, Brasil
CATEGORIES:Caruaru
END:VEVENT
END:VCALENDAR